BEGIN:VCALENDAR
VERSION:2.0
PRODID:-//Library Market//iCal Export//EN
BEGIN:VEVENT
SUMMARY:Advance Directive Workshop [REGISTRATION REQUIRED]
UID:17644
DTSTAMP:20260423T071500Z
DTSTART:20260508T170000Z
DTEND:20260508T210000Z
LOCATION:Chetco Community Public Library, 405 Alder Street, Brookings, OR 
 97415, United States
ROOM: Forest Room (Large Meeting Room)
DESCRIPTION:Learn the ins and out of creating an Advance Directive with lo
 cal attorney Cora Rose! SPOTS LIMITED! REGISTRATION IS REQUIRED. Please r
 egister at this link: https://docs.google.com/forms/d/e/1FAIpQLSfOwFJNc70E
 sNUDdu94ailoLg3JUFmun-FmIZh7rmY1Uf3g2w/viewform?usp=publish-editorIn Orego
 n, the medical Power of Attorney is known as the Advance Directive. The Ad
 vance Directive is a document that allows you to make it clear what you wo
 uld like to happen with your medical care if you ever become so sick that 
 you’re not able to speak for yourself.Many people think advance directiv
 es are only for those with a terminal illness. However, unexpected situati
 ons can happen to anyone at any age. If you experience a devastating accid
 ent or illness that renders you unconscious or unable to communicate, an a
 dvance directive can help you make sure your wishes about your medical car
 e are known, and that the person you want to make decisions for you can. 
 This workshop will run from 10:30am to 2pm with a noon lunch break (doors 
 open at 10am). A lunch option will be provided for all attendees—please 
 make sure to select your preferred meal when you register!  Not sure if 
 this workshop is right for you? Who this workshop is for:Oregon residents
  who are competent adults or emancipated minors who want to plan for the u
 nexpected and help their loved ones care for them What to expect:Learn ab
 out the Oregon Advance Directive and Appointment of Healthcare Representat
 ive form, process, and your optionsA chance to ask general legal and pract
 ical questions and walk through the form step-by-stepAn opportunity to ref
 lect before completing and notarizing your directive, if you feel ready. 
 This workshop is NOT for:People who already have completed a comprehensive
  estate plan that includes a medical Power of Attorney or Advance Directiv
 ePeople who seek a POLST (which must be completed with your medical provid
 er)Those looking to create a will or estate plan (the topic will be limite
 d to last wishes for healthcare decision-making)
URL:https://chetco.librarycalendar.com/event/advance-directive-workshop-co
 ra-rose-17644
END:VEVENT
END:VCALENDAR
