BEGIN:VCALENDAR
VERSION:2.0
PRODID:-//Library Market//iCal Export//EN
BEGIN:VEVENT
SUMMARY:Waking Up to Tea! A Mini Workshop with Kai (REGISTRATION REQUIRED)
UID:17975
DTSTAMP:20260422T034100Z
DTSTART:20260516T180000Z
DTEND:20260516T200000Z
LOCATION:Chetco Community Public Library, 405 Alder St, Brookings, OR 9741
 5, United States
ROOM: River Room (Small Meeting Room, Main Library)
DESCRIPTION:Join local tea expert Kai for an exploration of the history an
 d culture of tea drinking. We’ll find out how the leaves of one unassumi
 ng bush - Camellia Sinensis - are transformed into the world’s second mo
 st popular beverage.Whether you’re a regular tea drinker and want to exp
 and your knowledge, are trying to cut down on coffee, or just want to lear
 n something new, this gathering is for you!A message from Kai: I was raise
 d on Lipton tea bags, but half a lifetime ago I came across a quality Chin
 ese black tea called Tippy South Cloud, and it was a revelation for my tas
 te buds. I still drink it regularly, and over the years I’ve discovered 
 many others which I love to share.In this mini-workshop, we’ll learn abo
 ut the six main styles of tea and look at what makes traditionally process
 ed loose-leaf teas so unique and delicious. We’ll check out some differe
 nt ways of brewing tea and talk about the many factors that go into making
  the perfect cup of tea.Most importantly, we’ll sip seven of Kai&#039;s 
 favorite teas, experiencing the wide range of flavors that the humble tea 
 leaf can produce: sweet, earthy, grassy, fruity, bitter, malty, floral, um
 ami, and even creamy.At the end, you will have an opportunity to purchase 
 some teas from my collection. (No purchase required. This event is free to
  attend.)Keep in mind:There is a maximum of 10 participants and you MUST c
 laim a spot in order to attend!We’ll start right at 11am and end at 1pm.
 If you can’t make it, please let us know so that someone else can claim 
 your spot.
URL:https://chetco.librarycalendar.com/event/waking-tea-mini-workshop-kai-
 registration-required-17975
END:VEVENT
END:VCALENDAR
