BEGIN:VCALENDAR
VERSION:2.0
PRODID:-//Library Market//iCal Export//EN
BEGIN:VEVENT
SUMMARY:Checkmate Corner
UID:17977
DTSTAMP:20260421T095300Z
DTSTART:20260409T224500Z
DTEND:20260410T000000Z
LOCATION:Chetco Community Public Library, 405 Alder St, Brookings, OR 9741
 5, United States
ROOM: River Room (Small Meeting Room, Main Library)
DESCRIPTION:Chess playing for all ages and skill levels!
URL:https://chetco.librarycalendar.com/event/checkmate-corner-17977
END:VEVENT
END:VCALENDAR
