BEGIN:VCALENDAR
VERSION:2.0
PRODID:-//Library Market//iCal Export//EN
BEGIN:VEVENT
SUMMARY:Make a Rainstick
UID:18032
DTSTAMP:20260423T092600Z
DTSTART:20260530T210000Z
DTEND:20260530T220000Z
LOCATION:Chetco Community Public Library, 405 Alder St, Brookings, OR 9741
 5, United States
ROOM: Makerspace
DESCRIPTION:Kids are welcome to drop by the Makerspace to learn about the 
 history of rainsticks and make their own. Supplies are limited and availab
 le first-come, first-served. 
URL:https://chetco.librarycalendar.com/event/make-rainstick-18032
END:VEVENT
END:VCALENDAR
